BEGIN:VCALENDAR
VERSION:2.0
PRODID:-//Western Asset Protection - ECPv6.15.18//NONSGML v1.0//EN
CALSCALE:GREGORIAN
METHOD:PUBLISH
X-WR-CALNAME:Western Asset Protection
X-ORIGINAL-URL:https://westernassetprotection.com
X-WR-CALDESC:Events for Western Asset Protection
REFRESH-INTERVAL;VALUE=DURATION:PT1H
X-Robots-Tag:noindex
X-PUBLISHED-TTL:PT1H
BEGIN:VTIMEZONE
TZID:America/Phoenix
BEGIN:STANDARD
TZOFFSETFROM:-0700
TZOFFSETTO:-0700
TZNAME:MST
DTSTART:20220101T000000
END:STANDARD
END:VTIMEZONE
BEGIN:VEVENT
DTSTART;TZID=America/Phoenix:20230705T090000
DTEND;TZID=America/Phoenix:20230705T093000
DTSTAMP:20260425T171505
CREATED:20230704T204820Z
LAST-MODIFIED:20230704T204820Z
UID:10000128-1688547600-1688549400@westernassetprotection.com
SUMMARY:Wellcare AZ - New Agent Training Webinar
DESCRIPTION:Click HERE to join at the scheduled time \n  \nIf you are a recently contracted AZ Wellcare Agent\, then this is the training for you. \nPlease join us for our \n“ARIZONA – New Wellcare Agent Training” \nInformation: \n\nCome spend some time with our Arizona Broker Manager\, Patrizia Parisella\nLearn about the Wellcare 2023 Product Portfolio.\nGet answers to any NEW AGENT questions you might have.\n\nYou do not need to RSVP
URL:https://westernassetprotection.com/event/wellcare-az-new-agent-training-webinar/
CATEGORIES:Carrier Training
ATTACH;FMTTYPE=image/png:https://westernassetprotection.com/wp-content/uploads/2023/07/wellcare-logo.png
END:VEVENT
BEGIN:VEVENT
DTSTART;TZID=America/Phoenix:20230705T110000
DTEND;TZID=America/Phoenix:20230705T120000
DTSTAMP:20260425T171505
CREATED:20230704T210441Z
LAST-MODIFIED:20230704T210441Z
UID:10000131-1688554800-1688558400@westernassetprotection.com
SUMMARY:Humana Connection Hub - National Training
DESCRIPTION:Register HERE > \n  \nDuring this session\, we will demonstrate how to create marketing lists and campaigns and how to send out letters.
URL:https://westernassetprotection.com/event/humana-connection-hub-national-training/
CATEGORIES:Carrier Training
ATTACH;FMTTYPE=image/svg+xml:https://westernassetprotection.com/wp-content/uploads/2023/07/humana-logo-green.svg
END:VEVENT
BEGIN:VEVENT
DTSTART;TZID=America/Phoenix:20230706T100000
DTEND;TZID=America/Phoenix:20230706T120000
DTSTAMP:20260425T171505
CREATED:20230424T213447Z
LAST-MODIFIED:20230424T214722Z
UID:10000066-1688637600-1688644800@westernassetprotection.com
SUMMARY:Devoted New Broker Orientation
DESCRIPTION:Register HERE \n  \nThis is your opportunity to learn all things Devoted Health for the Arizona market. \n\nIn addition to plan reviews\, we will be diving deep into who Devoted is\, our history of growth and where we are going\, tools and resources available to you as a contracted agent\, an overview of our marketing assets\, and discuss ways we can partner with you to grow.\nWhile the title is “New Broker Orientation\,” we encourage any and all agents to attend if you could use a refresher or just want to pick up a few new nuggets about Devoted.\n\nSee you there!
URL:https://westernassetprotection.com/event/devoted-new-broker-orientation/2023-07-06/
LOCATION:Devoted Office\, 16435 N Scottsdale RD STE 285\, Scottsdale\, AZ\, 85254\, United States
CATEGORIES:Carrier Training
END:VEVENT
BEGIN:VEVENT
DTSTART;TZID=America/Phoenix:20230706T110000
DTEND;TZID=America/Phoenix:20230706T120000
DTSTAMP:20260425T171505
CREATED:20230704T183657Z
LAST-MODIFIED:20230704T183831Z
UID:10000121-1688641200-1688644800@westernassetprotection.com
SUMMARY:How to Submit E-Applications on CSG
DESCRIPTION:Register HERE > \n  \nCSG Actuarial’s quote and enroll platform allows agents to submit applications directly to the carrier from the quoting tool. \nThe e-Application is a one-universal process\, easy to navigate\, automatically saves & stores incomplete and submitted apps\, underwrites in real-time\, and allows multiple signature options. \nJoin us to see how easy it is to submit applications to  \nAARP® Medicare Supplement Insurance Plans\, insured by UnitedHealthcare® Insurance Company (United Healthcare)\, Allstate Health Solutions\, Aetna\, Elips/Lumico\, Medico\, Mutual of Omaha\, Heartland National and others!
URL:https://westernassetprotection.com/event/how-to-submit-e-applications-on-csg/
CATEGORIES:CSG Training
ATTACH;FMTTYPE=image/png:https://westernassetprotection.com/wp-content/uploads/2023/06/CSG-Actuarial-Logo_Transparent.png
END:VEVENT
BEGIN:VEVENT
DTSTART;TZID=America/Phoenix:20230706T110000
DTEND;TZID=America/Phoenix:20230706T120000
DTSTAMP:20260425T171505
CREATED:20230704T211004Z
LAST-MODIFIED:20230704T211016Z
UID:10000132-1688641200-1688644800@westernassetprotection.com
SUMMARY:Humana Enrollment Hub - National Training
DESCRIPTION:Register HERE > \n  \nHumana’s Enrollment HUB is an online and offline enrollment tool that provides an end-to-end workflow and improves the speed and accuracy of enrollment. \nDuring this webinar\, we will demonstrate how to use Enrollment HUB to create an SOA\, complete an MAPD enrollment application\, and much more.
URL:https://westernassetprotection.com/event/humana-enrollment-hub-national-training/
CATEGORIES:Carrier Training
ATTACH;FMTTYPE=image/svg+xml:https://westernassetprotection.com/wp-content/uploads/2023/07/humana-logo-green.svg
END:VEVENT
BEGIN:VEVENT
DTSTART;TZID=America/Phoenix:20230706T110000
DTEND;TZID=America/Phoenix:20230706T120000
DTSTAMP:20260425T171505
CREATED:20230709T150359Z
LAST-MODIFIED:20230709T150359Z
UID:10000142-1688641200-1688644800@westernassetprotection.com
SUMMARY:CSG Training - How to Submit E-Applications
DESCRIPTION:Register HERE > \n  \nHow to Submit E-Applications \n\nAgents can quote and submit a Med Supp application straight from the CSG APP inside MedicareCENTER.\nThe e-Application is a one-universal process\, easy to navigate\, automatically saves & stores incomplete and submitted apps\, underwrites in real-time\, and allows multiple signature options.\n\n  \nThursday\, July 6 at 1 p.m. Central Time
URL:https://westernassetprotection.com/event/csg-training-how-to-submit-e-applications/
CATEGORIES:CSG Training
END:VEVENT
BEGIN:VEVENT
DTSTART;TZID=America/Phoenix:20230706T110000
DTEND;TZID=America/Phoenix:20230706T123000
DTSTAMP:20260425T171505
CREATED:20230706T154619Z
LAST-MODIFIED:20230706T154619Z
UID:10000135-1688641200-1688646600@westernassetprotection.com
SUMMARY:Molina Matters - iCario Training
DESCRIPTION:Join HERE at the scheduled time \nMeeting ID: 253 753 125 053 \nPasscode: 4EWVCw \n  \niCario Training for Brokers \n\niCario uses whole person data\, behavioral science\, digital-first omnichannel pathways\, and smart rewards and incentives to help you connect personally with people.\nWe know what they want\, how they like to connect\, and what moves them to take action.
URL:https://westernassetprotection.com/event/molina-matters-icario-training/
CATEGORIES:Carrier Training
ATTACH;FMTTYPE=image/png:https://westernassetprotection.com/wp-content/uploads/2023/07/molina-healthcare.png
END:VEVENT
END:VCALENDAR