BEGIN:VCALENDAR
VERSION:2.0
PRODID:-//Western Asset Protection - ECPv6.15.18//NONSGML v1.0//EN
CALSCALE:GREGORIAN
METHOD:PUBLISH
X-WR-CALNAME:Western Asset Protection
X-ORIGINAL-URL:https://westernassetprotection.com
X-WR-CALDESC:Events for Western Asset Protection
REFRESH-INTERVAL;VALUE=DURATION:PT1H
X-Robots-Tag:noindex
X-PUBLISHED-TTL:PT1H
BEGIN:VTIMEZONE
TZID:America/Phoenix
BEGIN:STANDARD
TZOFFSETFROM:-0700
TZOFFSETTO:-0700
TZNAME:MST
DTSTART:20220101T000000
END:STANDARD
END:VTIMEZONE
BEGIN:VEVENT
DTSTART;TZID=America/Phoenix:20230814T100000
DTEND;TZID=America/Phoenix:20230814T103000
DTSTAMP:20260425T191919
CREATED:20230704T205854Z
LAST-MODIFIED:20230704T205854Z
UID:10000130-1692007200-1692009000@westernassetprotection.com
SUMMARY:Wellcare AZ - New Agent Training Webinar
DESCRIPTION:Click HERE to join at the scheduled time \n  \nIf you are a recently contracted AZ Wellcare Agent\, then this is the training for you. \nPlease join us for our \n“ARIZONA – New Wellcare Agent Training” \nInformation: \n\nCome spend some time with our Arizona Broker Manager\, Patrizia Parisella\nLearn about the Wellcare 2023 Product Portfolio.\nGet answers to any NEW AGENT questions you might have.\nYou do not need to RSVP
URL:https://westernassetprotection.com/event/wellcare-az-new-agent-training-webinar-4/
CATEGORIES:Carrier Training
ATTACH;FMTTYPE=image/png:https://westernassetprotection.com/wp-content/uploads/2023/07/wellcare-logo.png
END:VEVENT
BEGIN:VEVENT
DTSTART;TZID=America/Phoenix:20230815T100000
DTEND;TZID=America/Phoenix:20230815T120000
DTSTAMP:20260425T191919
CREATED:20230825T232320Z
LAST-MODIFIED:20230825T232320Z
UID:10000189-1692093600-1692100800@westernassetprotection.com
SUMMARY:BCBSAZ 2024 Rollout Meeting (Virtual)
DESCRIPTION:Register Here > \n  \nRegister now for the BCBSAZ 2024 rollout meeting.
URL:https://westernassetprotection.com/event/bcbsaz-2024-rollout-meeting-virtual/
CATEGORIES:Carrier Training
END:VEVENT
BEGIN:VEVENT
DTSTART;TZID=America/Phoenix:20230815T100000
DTEND;TZID=America/Phoenix:20230815T120000
DTSTAMP:20260425T191919
CREATED:20230826T191327Z
LAST-MODIFIED:20230826T191327Z
UID:10000190-1692093600-1692100800@westernassetprotection.com
SUMMARY:BCBSAZ 2024 Rollout Meeting (Virtual)
DESCRIPTION:Register Here > \n  \nRegister now for the BCBSAZ 2024 rollout meeting.
URL:https://westernassetprotection.com/event/bcbsaz-2024-rollout-meeting-virtual-2/
CATEGORIES:Carrier Training
END:VEVENT
BEGIN:VEVENT
DTSTART;TZID=America/Phoenix:20230816T090000
DTEND;TZID=America/Phoenix:20230816T150000
DTSTAMP:20260425T191919
CREATED:20230727T202825Z
LAST-MODIFIED:20230727T202825Z
UID:10000163-1692176400-1692198000@westernassetprotection.com
SUMMARY:WAP Contracting Open House - In-person & Online
DESCRIPTION:  \n\n\n\n\n\n\n\nValued Agent Partners\, \nJoin us for the WAP Wednesday Contracting Open House \nOur Phoenix office is now open for Agents and Agency Partners who prefer in-person meetings. However\, if you prefer to join online\, we have a specialized contracting team available to provide personalized support during allocated hours. \nThis personal touch allows us to better assist you in overcoming any obstacles you may face in obtaining certifications\, contracting status\, Ready to Sell (RTS) status\, adding states\, and other related matters. Our ultimate goal is to help you achieve a smooth and seamless journey toward a successful year. \n*In-person*\, Wednesdays\, 9 AM – 3 PM\, WAP – Phoenix\, 4550 E Bell Rd Ste 136\, Phoenix\, AZ 85032 \n*Online* – Wednesdays\, 9 AM – 3 PM – Join Online HERE \n\nMeeting ID: 846 5085 5558\nPasscode: 292662\nOne tap mobile\n+16699006833\,\,84650855558# US (San Jose)\n+17193594580\,\,84650855558#
URL:https://westernassetprotection.com/event/wap-contracting-open-house-in-person-online/2023-08-16/
CATEGORIES:Western Asset Protection Training
ATTACH;FMTTYPE=image/svg+xml:https://westernassetprotection.com/wp-content/uploads/2022/11/WAP_colored_Logo.svg
END:VEVENT
BEGIN:VEVENT
DTSTART;TZID=America/Phoenix:20230817T090000
DTEND;TZID=America/Phoenix:20230817T100000
DTSTAMP:20260425T191919
CREATED:20230424T214237Z
LAST-MODIFIED:20230424T215257Z
UID:10000064-1692262800-1692266400@westernassetprotection.com
SUMMARY:Devoted Drill
DESCRIPTION:Register HERE \n  \nJoin the Devoted AZ Team for their monthly virtual training with deep-dive new topics each month.
URL:https://westernassetprotection.com/event/devoted-drill/2023-08-17/
CATEGORIES:Carrier Training
END:VEVENT
BEGIN:VEVENT
DTSTART;TZID=America/Phoenix:20230818T100000
DTEND;TZID=America/Phoenix:20230818T230000
DTSTAMP:20260425T191919
CREATED:20230808T053601Z
LAST-MODIFIED:20230811T190603Z
UID:10000170-1692352800-1692399600@westernassetprotection.com
SUMMARY:AEP Academy / AEP Market Rollouts MARICOPA CITY – PINAL COUNTY\, HUMANA 2024 PLAN ROLLOUT
DESCRIPTION:Register Here > \n  \nHumana AEP Academy / AEP Market Rollouts event. \n\n\nAEP Academy / AEP Market Rollouts MARICOPA CITY – PINAL COUNTY\, HUMANA 2024 PLAN ROLLOUT \nDate: August 18\, 2023 \nTime: 10:00 AM \nLocation: Maricopa City – Library and Cultural Center – Pine Room \nAddress: 18160 N Maya Angelou Dr\, Maricopa\, AZ 85138 \nOther Details: Join us to learn about 2024 plan benefits! \n\nPresenter: Javier Barbosa-Mireles
URL:https://westernassetprotection.com/event/aep-academy-aep-market-rollouts-maricopa-city-pinal-county-humana-2024-plan-rollout/
LOCATION:Maricopa City – Library and Cultural Center – Pine Room\, 18160 N Maya Angelou Dr\, Maricopa\, AZ\, 85138\, United States
CATEGORIES:Carrier Training
ATTACH;FMTTYPE=image/svg+xml:https://westernassetprotection.com/wp-content/uploads/2023/07/humana-logo-green.svg
END:VEVENT
END:VCALENDAR