BEGIN:VCALENDAR
VERSION:2.0
PRODID:-//Western Asset Protection - ECPv6.15.18//NONSGML v1.0//EN
CALSCALE:GREGORIAN
METHOD:PUBLISH
X-WR-CALNAME:Western Asset Protection
X-ORIGINAL-URL:https://westernassetprotection.com
X-WR-CALDESC:Events for Western Asset Protection
REFRESH-INTERVAL;VALUE=DURATION:PT1H
X-Robots-Tag:noindex
X-PUBLISHED-TTL:PT1H
BEGIN:VTIMEZONE
TZID:America/Phoenix
BEGIN:STANDARD
TZOFFSETFROM:-0700
TZOFFSETTO:-0700
TZNAME:MST
DTSTART:20220101T000000
END:STANDARD
END:VTIMEZONE
BEGIN:VEVENT
DTSTART;TZID=America/Phoenix:20230911T080000
DTEND;TZID=America/Phoenix:20230911T090000
DTSTAMP:20260424T185555
CREATED:20230901T051223Z
LAST-MODIFIED:20230901T051223Z
UID:10000213-1694419200-1694422800@westernassetprotection.com
SUMMARY:Cigna Sales Compliance & Marketing Training
DESCRIPTION:Register Here > \n  \nJoin us to learn more about Medicare Sales compliance and marketing changes for 2024. \nBring your questions\, so you can be well prepared for AEP 2024.
URL:https://westernassetprotection.com/event/cigna-sales-compliance-marketing-training-2/
CATEGORIES:Carrier Training
ATTACH;FMTTYPE=image/png:https://westernassetprotection.com/wp-content/uploads/2023/08/NEW-2023-cigna-healthcare-logo.png
END:VEVENT
BEGIN:VEVENT
DTSTART;TZID=America/Phoenix:20230911T100000
DTEND;TZID=America/Phoenix:20230911T110000
DTSTAMP:20260424T185555
CREATED:20230906T183946Z
LAST-MODIFIED:20230906T183946Z
UID:10000217-1694426400-1694430000@westernassetprotection.com
SUMMARY:IMG MedicareCENTER Overview Trainings
DESCRIPTION:Register HERE > \n  \nStay up to date on all our upcoming MedicareCENTER new features for AEP. Join us for your MedicareCENTER AEP Training! Each week\, we will highlight new features and give an overview. \nHeld every Monday at 10 a.m. PT\, 12 p.m. CT from September 11 to October 9
URL:https://westernassetprotection.com/event/img-medicarecenter-overview-trainings/2023-09-11/
CATEGORIES:MedicareCENTER
ATTACH;FMTTYPE=image/png:https://westernassetprotection.com/wp-content/uploads/2023/06/MedicareCenter.png
END:VEVENT
BEGIN:VEVENT
DTSTART;TZID=America/Phoenix:20230912T110000
DTEND;TZID=America/Phoenix:20230912T120000
DTSTAMP:20260424T185555
CREATED:20230822T164218Z
LAST-MODIFIED:20230906T175651Z
UID:10000172-1694516400-1694520000@westernassetprotection.com
SUMMARY:*Canceled* Talk-O Tuesday - Highlights: AEP\, Compliance\, WAPCON 2023
DESCRIPTION:*Due to unforeseen circumstances\, this webinar is canceled* \n  \n\nTalk-O Tuesday with WAP\n\n\n\nOn the 2nd Tuesday of every month\, we invite you to join the discussion around anything and everything related to being in business in the Medicare space. \nThe WAP Team provides relevant\, industry-related information you need to know now. \nBring your questions and your ideas and be part of the conversation. We can’t wait to see you there.
URL:https://westernassetprotection.com/event/talk-o-tuesday-highlights-aep-compliance-wapcon-2023/
CATEGORIES:Talk-O Tuesday
ATTACH;FMTTYPE=image/jpeg:https://westernassetprotection.com/wp-content/uploads/2023/06/WAP_Talk-O-Tuesday-lockup.jpg
END:VEVENT
BEGIN:VEVENT
DTSTART;TZID=America/Phoenix:20230913T080000
DTEND;TZID=America/Phoenix:20230913T090000
DTSTAMP:20260424T185555
CREATED:20230901T050724Z
LAST-MODIFIED:20230901T050724Z
UID:10000211-1694592000-1694595600@westernassetprotection.com
SUMMARY:Cigna Prescription Drug Plan (PDP) Training
DESCRIPTION:Register HERE > \n  \nGreat news – Cigna Healthcare’s PDP plans are commissionable for 2024! \nJoin Cigna to learn more about PDP plans and the impact of recently passed legislation on Part D prescription drug costs. \n 
URL:https://westernassetprotection.com/event/cigna-prescription-drug-plan-pdp-training-3/
CATEGORIES:Carrier Training
ATTACH;FMTTYPE=image/png:https://westernassetprotection.com/wp-content/uploads/2023/08/NEW-2023-cigna-healthcare-logo.png
END:VEVENT
BEGIN:VEVENT
DTSTART;TZID=America/Phoenix:20230913T080000
DTEND;TZID=America/Phoenix:20230913T090000
DTSTAMP:20260424T185555
CREATED:20230906T184840Z
LAST-MODIFIED:20230906T184855Z
UID:10000222-1694592000-1694595600@westernassetprotection.com
SUMMARY:IMG PlanEnroll
DESCRIPTION:Register NOW > \n\nPlanEnroll – \nLearn how to become a PlanEnroll Network Agent and receive real–time leads from PlanEnroll.com national Age–In marketing and advertising campaigns. We will show you how to utilize your own PlanEnroll PURL for clients to run quotes and enroll in plans.
URL:https://westernassetprotection.com/event/img-planenroll/
CATEGORIES:MedicareCENTER
ATTACH;FMTTYPE=image/png:https://westernassetprotection.com/wp-content/uploads/2023/06/MedicareCenter.png
END:VEVENT
BEGIN:VEVENT
DTSTART;TZID=America/Phoenix:20230913T110000
DTEND;TZID=America/Phoenix:20230913T120000
DTSTAMP:20260424T185555
CREATED:20230901T051647Z
LAST-MODIFIED:20230901T051836Z
UID:10000215-1694602800-1694606400@westernassetprotection.com
SUMMARY:Cigna CustomPoint Training
DESCRIPTION:Register Here > \n  \nJoin Cigna to see what is new in CustomPoint – Your one-stop shop for marketing materials that can easily be customized to grow your Medicare business with Cigna Healthcare.
URL:https://westernassetprotection.com/event/understanding-cigna-healthcare-medicare-advantage-dental-benefits/
CATEGORIES:Carrier Training
ATTACH;FMTTYPE=image/png:https://westernassetprotection.com/wp-content/uploads/2023/08/NEW-2023-cigna-healthcare-logo.png
END:VEVENT
BEGIN:VEVENT
DTSTART;TZID=America/Phoenix:20230914T080000
DTEND;TZID=America/Phoenix:20230914T090000
DTSTAMP:20260424T185555
CREATED:20230901T052957Z
LAST-MODIFIED:20230901T052957Z
UID:10000216-1694678400-1694682000@westernassetprotection.com
SUMMARY:Cigna Understanding Cigna Medicare Advantage Incentives
DESCRIPTION:Register Here > \n  \nJoin the Cigna team to have your Cigna Healthcare MA Incentive program questions answered. Their incentives are a great way to engage customers with their healthcare\, boost retention\, and increase customer satisfaction.
URL:https://westernassetprotection.com/event/cigna-understanding-cigna-medicare-advantage-incentives/
CATEGORIES:Carrier Training
ATTACH;FMTTYPE=image/png:https://westernassetprotection.com/wp-content/uploads/2023/08/NEW-2023-cigna-healthcare-logo.png
END:VEVENT
END:VCALENDAR