BEGIN:VCALENDAR
VERSION:2.0
PRODID:-//Western Asset Protection - ECPv6.15.18//NONSGML v1.0//EN
CALSCALE:GREGORIAN
METHOD:PUBLISH
X-ORIGINAL-URL:https://westernassetprotection.com
X-WR-CALDESC:Events for Western Asset Protection
REFRESH-INTERVAL;VALUE=DURATION:PT1H
X-Robots-Tag:noindex
X-PUBLISHED-TTL:PT1H
BEGIN:VTIMEZONE
TZID:America/Phoenix
BEGIN:STANDARD
TZOFFSETFROM:-0700
TZOFFSETTO:-0700
TZNAME:MST
DTSTART:20220101T000000
END:STANDARD
END:VTIMEZONE
BEGIN:VEVENT
DTSTART;TZID=America/Phoenix:20231114T110000
DTEND;TZID=America/Phoenix:20231114T120000
DTSTAMP:20260422T025614
CREATED:20230822T164915Z
LAST-MODIFIED:20230822T164915Z
UID:10000174-1699959600-1699963200@westernassetprotection.com
SUMMARY:Talk-O Tuesday
DESCRIPTION:Register HERE > \n  \n\nTalk-O Tuesday with WAP\n\n\nOn the 2nd Tuesday of every month\, we invite you to join the discussion around anything and everything related to being in business in the Medicare space. \nThe WAP Team provides relevant\, industry-related information you need to know now. \nBring your questions and your ideas and be part of the conversation. We can’t wait to see you there.
URL:https://westernassetprotection.com/event/talk-o-tuesday-5/
CATEGORIES:Talk-O Tuesday
ATTACH;FMTTYPE=image/jpeg:https://westernassetprotection.com/wp-content/uploads/2023/06/WAP_Talk-O-Tuesday-lockup.jpg
END:VEVENT
BEGIN:VEVENT
DTSTART;TZID=America/Phoenix:20231115T100000
DTEND;TZID=America/Phoenix:20231115T103000
DTSTAMP:20260422T025614
CREATED:20231016T225322Z
LAST-MODIFIED:20231016T225322Z
UID:10000281-1700042400-1700044200@westernassetprotection.com
SUMMARY:Wellcare AZ Dual Eligible\, Spendable Card & Chronic Training
DESCRIPTION:Click HERE to join > \n  \nWellcare Dual Eligible\, Spendable Card & Chronic Trainingefit \n 
URL:https://westernassetprotection.com/event/wellcare-az-dual-eligible-spendable-card-chronic-training/2023-11-15/
CATEGORIES:Carrier Training
ATTACH;FMTTYPE=image/png:https://westernassetprotection.com/wp-content/uploads/2023/07/wellcare-logo.png
END:VEVENT
BEGIN:VEVENT
DTSTART;TZID=America/Phoenix:20231115T100000
DTEND;TZID=America/Phoenix:20231115T103000
DTSTAMP:20260422T025614
CREATED:20231017T004800Z
LAST-MODIFIED:20231017T004800Z
UID:10000285-1700042400-1700044200@westernassetprotection.com
SUMMARY:Aetna Weekly Broker Check-in Call
DESCRIPTION:Join TEAMS Meeting at the Scheduled Time > \n\nMeeting ID: 291 195 952 387\nPasscode: miYyHi\n\n  \nThe Aetna AZ Team is excited to bring you a 30-minute weekly check-in during AEP so agents get answers fast: \nWednesdays starting October 25 through November 29th from 10:00 – 10:30 AM MST. (Aetna will not hold a call on Nov. 22nd during Thanksgiving Week) \nVarious AZ Broker Managers will present important updates and information on various topics\, including: \n\nAetna plan guidance and sales opportunities\nProduct Overview\nValue-Added Services\nResources & Tools\nAnswers to your questions!\n\nJoin the AZ Aetna Team\, weekly at 10 AM!
URL:https://westernassetprotection.com/event/aetna-weekly-broker-check-in-call-2/2023-11-15/
CATEGORIES:Carrier Training
END:VEVENT
BEGIN:VEVENT
DTSTART;TZID=America/Phoenix:20231115T100000
DTEND;TZID=America/Phoenix:20231115T103000
DTSTAMP:20260422T025614
CREATED:20231024T182134Z
LAST-MODIFIED:20231024T182134Z
UID:10000294-1700042400-1700044200@westernassetprotection.com
SUMMARY:Aetna AEP Weekly Wednesday Call-in
DESCRIPTION:Join HERE at the scheduled time > \n\nTEAMS Meeting\nMeeting ID: 291 195 952 387\nPasscode: miYyHi\n\n  \nJoin the Aetna Weekly 30-Minute Check-in Call: \nGet AEP updates and answers to your questions \nAZ Broker Managers will present important updates and information on various topics\, including: \n\nAetna plan guidance and sales opportunities\nProduct Overview\nValue-Added Services\nResources & Tools\nAnswers to your questions!
URL:https://westernassetprotection.com/event/aetna-aep-weekly-wednesday-call-in/2023-11-15/
CATEGORIES:Carrier Training
ATTACH;FMTTYPE=image/png:https://westernassetprotection.com/wp-content/uploads/2022/06/Aetna_Logo_Violet_CMYK_Coated.png
END:VEVENT
BEGIN:VEVENT
DTSTART;TZID=America/Phoenix:20231116T090000
DTEND;TZID=America/Phoenix:20231116T100000
DTSTAMP:20260422T025614
CREATED:20231116T223015Z
LAST-MODIFIED:20231116T223015Z
UID:10000298-1700125200-1700128800@westernassetprotection.com
SUMMARY:CSG App Med Supp Quoting and E-Application Training
DESCRIPTION:Register HERE > \n  \nLearn what to look for when quoting Med Supp carriers\, such as rate adjustments\, discounts\, and loss ratios. Learn how to compare plans and take an e-application in the tool.
URL:https://westernassetprotection.com/event/csg-app-med-supp-quoting-and-e-application-training/
CATEGORIES:CSG Training
END:VEVENT
BEGIN:VEVENT
DTSTART;TZID=America/Phoenix:20231117T073000
DTEND;TZID=America/Phoenix:20231117T083000
DTSTAMP:20260422T025614
CREATED:20231110T234805Z
LAST-MODIFIED:20231110T234805Z
UID:10000297-1700206200-1700209800@westernassetprotection.com
SUMMARY:WAP & UHC Mid AEP Growth & Opportunities Call
DESCRIPTION:Register HERE >\n\nWAP & UHC Mid AEP Growth & Opportunities Call\n\nDescription \nPlease join us for a Mid-AEP WAP & UHC Growth Call. \nTopics for the call:\n– Key UHC tips for success in AEP\n– What other agents are doing for success in AEP\n– WAP UHC Co-op Opportunity\n– Lead Opportunity\n– Ideas to grow sales during AEP\n– Answer your UHC & AEP Questions \nPresenters:\n– Paul Rose\, Managing Partner of WAP\n– Steven Smith\, Director of Sales of WAP\n– David Wessling\, Regional Sales Manager of WAP\n– Jacob Yoon\, Market Growth Director\, Northern AZ\n– George Marquez\, Market Growth Director\, Southern AZ & Northern NM \nWe look forward to connecting and sharing ideas to keep sales growth rolling during AEP.
URL:https://westernassetprotection.com/event/wap-uhc-mid-aep-growth-opportunities-call/
CATEGORIES:UnitedHealthcare
ATTACH;FMTTYPE=image/png:https://westernassetprotection.com/wp-content/uploads/2022/06/2015_UHC_Logo.png
END:VEVENT
BEGIN:VEVENT
DTSTART;TZID=America/Phoenix:20231117T140000
DTEND;TZID=America/Phoenix:20231117T160000
DTSTAMP:20260422T025614
CREATED:20231016T220243Z
LAST-MODIFIED:20231016T220243Z
UID:10000278-1700229600-1700236800@westernassetprotection.com
SUMMARY:Wellcare Kit Pickup - Pastries with Pat - Tucson\, AZ
DESCRIPTION:Wellcare Kit Pickup – Tucson \n  \nPastries & Packets with Pat \nLocation: Panera Bread\, 6129 E. Broadway Blvd. Tucson\, AZ 85711 \n2 PM – 4 PM
URL:https://westernassetprotection.com/event/wellcare-kit-pickup-pastries-with-pat-tucson-az/2023-11-17/
CATEGORIES:Carrier Training
END:VEVENT
END:VCALENDAR