BEGIN:VCALENDAR
VERSION:2.0
PRODID:-//Western Asset Protection - ECPv6.15.18//NONSGML v1.0//EN
CALSCALE:GREGORIAN
METHOD:PUBLISH
X-ORIGINAL-URL:https://westernassetprotection.com
X-WR-CALDESC:Events for Western Asset Protection
REFRESH-INTERVAL;VALUE=DURATION:PT1H
X-Robots-Tag:noindex
X-PUBLISHED-TTL:PT1H
BEGIN:VTIMEZONE
TZID:America/Phoenix
BEGIN:STANDARD
TZOFFSETFROM:-0700
TZOFFSETTO:-0700
TZNAME:MST
DTSTART:20240101T000000
END:STANDARD
END:VTIMEZONE
BEGIN:VEVENT
DTSTART;TZID=America/Phoenix:20251103T073000
DTEND;TZID=America/Phoenix:20251103T080000
DTSTAMP:20260421T104445
CREATED:20251030T183915Z
LAST-MODIFIED:20251030T183916Z
UID:10001339-1762155000-1762156800@westernassetprotection.com
SUMMARY:Devoted Health Arizona Drop In - Q&A Series
DESCRIPTION:We’re excited to share a great opportunity to help you stay connected and informed about Devoted Health’s Medicare Advantage plans in Arizona during AEP.  \n\n\n\n\n\n\nOur local Devoted Broker Manager team will be hosting 3 opportunities each week for agents or agency leads to hop in and ask questions about benefits\, tools\, and resources\, or just to listen in; all are welcome to stop by. \n🕒 When: Every Monday\, Wednesday and Friday at 7:30 AM-8 AM through December 5\, 2025.\n📍 Where: Google Meets\n❓What to Expect: No formal agenda—just real-time support\, answers\, and open conversation. \nIt’s a relaxed space to get the info you need and connect with the Devoted team directly.
URL:https://westernassetprotection.com/event/devoted-health-arizona-drop-in-qa-series-2-3/
CATEGORIES:Devoted
END:VEVENT
BEGIN:VEVENT
DTSTART;TZID=America/Phoenix:20251103T093000
DTEND;TZID=America/Phoenix:20251103T100000
DTSTAMP:20260421T104446
CREATED:20251118T171908Z
LAST-MODIFIED:20251118T171908Z
UID:10001371-1762162200-1762164000@westernassetprotection.com
SUMMARY:CSG APP Feature Focus Training
DESCRIPTION:Register HERE > \n  \nEvery Monday at 10:30 AM CDT\, we have a quick webinar focusing on one part of the CSG App tool. \nPlease register for each session you’re interested in. \n\nNovember 3: Fill Med Adv Coverage Gaps with Hospital Indemnity\nNovember 10: Stack Med Supp Plan alongside PDP and DVH Plans\nNovember 17: Medicare Supplement Quoting Tools – Key Features\nNovember 24: Universal\, Multi-Carrier EApplication
URL:https://westernassetprotection.com/event/csg-app-feature-focus-training-19/
CATEGORIES:CSG Training
END:VEVENT
BEGIN:VEVENT
DTSTART;TZID=America/Phoenix:20251104T080000
DTEND;TZID=America/Phoenix:20251104T081500
DTSTAMP:20260421T104446
CREATED:20251118T165031Z
LAST-MODIFIED:20251118T165031Z
UID:10001363-1762243200-1762244100@westernassetprotection.com
SUMMARY:Tech Tip Tuesdays
DESCRIPTION:Register HERE > \n  \nJoin us every Tuesday at 9AM or 11AM CDT for quick 15-minute trainings on how IntegrityCONNECT® can help you save time\, work smarter\, and sell more. Register for each session you are interested in. \nAgenda\n\n\n\nNovember 4: Voice Signature for E-Applications\nNovember 11: New ‘View As’ Feature\nNovember 18: New Ask Integrity Plan Insights\nNovember 25: Spanish View
URL:https://westernassetprotection.com/event/tech-tip-tuesdays/
CATEGORIES:IntegrityCONNECT
END:VEVENT
BEGIN:VEVENT
DTSTART;TZID=America/Phoenix:20251104T100000
DTEND;TZID=America/Phoenix:20251104T101500
DTSTAMP:20260421T104446
CREATED:20251118T171308Z
LAST-MODIFIED:20251118T171308Z
UID:10001367-1762250400-1762251300@westernassetprotection.com
SUMMARY:Tech Tip Tuesdays
DESCRIPTION:Register HERE > \n  \nJoin us every Tuesday at 9AM or 11AM CDT for quick 15-minute trainings on how IntegrityCONNECT® can help you save time\, work smarter\, and sell more. Register for each session you are interested in. \nAgenda \n\nNovember 4: Voice Signature for E-Applications\nNovember 11: New ‘View As’ Feature\nNovember 18: New Ask Integrity Plan Insights\nNovember 25: Spanish View
URL:https://westernassetprotection.com/event/tech-tip-tuesdays-5/
CATEGORIES:IntegrityCONNECT
END:VEVENT
BEGIN:VEVENT
DTSTART;TZID=America/Phoenix:20251105T073000
DTEND;TZID=America/Phoenix:20251105T080000
DTSTAMP:20260421T104446
CREATED:20251030T184143Z
LAST-MODIFIED:20251030T184144Z
UID:10001320-1762327800-1762329600@westernassetprotection.com
SUMMARY:Devoted Health Arizona Drop In - Q&A Series
DESCRIPTION:We’re excited to share a great opportunity to help you stay connected and informed about Devoted Health’s Medicare Advantage plans in Arizona during AEP.  \n\n\n\n\n\n\nOur local Devoted Broker Manager team will be hosting 3 opportunities each week for agents or agency leads to hop in and ask questions about benefits\, tools\, and resources\, or just to listen in; all are welcome to stop by. \n🕒 When: Every Monday\, Wednesday and Friday at 7:30 AM-8 AM through December 5\, 2025.\n📍 Where: Google Meets\n❓What to Expect: No formal agenda—just real-time support\, answers\, and open conversation. \nIt’s a relaxed space to get the info you need and connect with the Devoted team directly.
URL:https://westernassetprotection.com/event/devoted-health-arizona-drop-in-qa-series-2-3-2/
CATEGORIES:Devoted
END:VEVENT
BEGIN:VEVENT
DTSTART;TZID=America/Phoenix:20251105T110000
DTEND;TZID=America/Phoenix:20251105T120000
DTSTAMP:20260421T104446
CREATED:20251103T211503Z
LAST-MODIFIED:20251103T211547Z
UID:10001352-1762340400-1762344000@westernassetprotection.com
SUMMARY:Mastering the Mystery of Med Supp - Part 1
DESCRIPTION:Register Here  \nAre you new to the world of Medicare Supplements? \nJoin us as we embark on a journey to uncover the compelling reasons behind why 1 in 3 clients are embracing the power of Medicare Supplements. \nIt’s time to tap into the immense potential of this series and supercharge your Medicare Supplement knowledge. \nLearn the secrets behind why one-third of clients are seizing the opportunity with Medicare Supplement coverage. \nMedicare Supplements\, or Medigap plans\, are the missing puzzle piece that completes your Medicare coverage\, elevating it to new heights. In this exclusive event\, we will guide you through the compelling reasons why these plans have always been an absolute must-have for anyone seeking optimal protection and peace of mind. \nJoin us as we delve deep into the realm of Medicare Supplements\, revealing the extraordinary advantages that await your clients. \nPresenter: John Colbaugh\, Jr.
URL:https://westernassetprotection.com/event/mastering-the-mystery-of-med-supp-part-1-2/
CATEGORIES:Medicare Supplements
END:VEVENT
BEGIN:VEVENT
DTSTART;TZID=America/Phoenix:20251105T130000
DTEND;TZID=America/Phoenix:20251105T140000
DTSTAMP:20260421T104446
CREATED:20251103T212750Z
LAST-MODIFIED:20251103T212750Z
UID:10001353-1762347600-1762351200@westernassetprotection.com
SUMMARY:Master Med Supp Underwriting - Ride Along
DESCRIPTION:Register Here \nOnce upon a time the “Ride Along” was a common & effective way for new agents to learn the ropes. \nAnd in the world of Medicare Supplements this approach was a fantastic way for agents to become familiar with Field-Underwriting\, and Medicare Supplement underwriting in general. \n\nThis new webinar adopts the style of a graphic novel or comic book and follows a young rookie agent on his first ride-along to the home of a new prospective Med Supp client.\nOn the other side of this session\, you should feel comfortable field-underwriting a Medicare Supplement\, no matter who the client is\, or the details of their story. Join us for a new approach\, as we revive the tried-and-true “Ride Along” experience\, and master the most sought-after enrollment category in the world of Med Supps.\nMed Supp underwriting shouldn’t be intimidating\, and we’re here to make sure you know the ropes!\n\n  \nRegister today!
URL:https://westernassetprotection.com/event/master-med-supp-underwriting-ride-along/
CATEGORIES:Medicare Supplements
END:VEVENT
BEGIN:VEVENT
DTSTART;TZID=America/Phoenix:20251107T073000
DTEND;TZID=America/Phoenix:20251107T080000
DTSTAMP:20260421T104446
CREATED:20251030T183746Z
LAST-MODIFIED:20251030T184637Z
UID:10001338-1762500600-1762502400@westernassetprotection.com
SUMMARY:Devoted Health Arizona Drop In - Q&A Series
DESCRIPTION:We’re excited to share a great opportunity to help you stay connected and informed about Devoted Health’s Medicare Advantage plans in Arizona during AEP.  \n\n\n\n\n\n\nOur local Devoted Broker Manager team will be hosting 3 opportunities each week for agents or agency leads to hop in and ask questions about benefits\, tools\, and resources\, or just to listen in; all are welcome to stop by. \n🕒 When: Every Monday\, Wednesday and Friday at 7:30 AM-8 AM through December 5\, 2025.\n📍 Where: Google Meets\n❓What to Expect: No formal agenda—just real-time support\, answers\, and open conversation. \nIt’s a relaxed space to get the info you need and connect with the Devoted team directly.
URL:https://westernassetprotection.com/event/devoted-health-arizona-drop-in-qa-series-2-2/2025-11-07/
CATEGORIES:Devoted
END:VEVENT
END:VCALENDAR