BEGIN:VCALENDAR
VERSION:2.0
PRODID:-//Western Asset Protection - ECPv6.15.18//NONSGML v1.0//EN
CALSCALE:GREGORIAN
METHOD:PUBLISH
X-WR-CALNAME:Western Asset Protection
X-ORIGINAL-URL:https://westernassetprotection.com
X-WR-CALDESC:Events for Western Asset Protection
REFRESH-INTERVAL;VALUE=DURATION:PT1H
X-Robots-Tag:noindex
X-PUBLISHED-TTL:PT1H
BEGIN:VTIMEZONE
TZID:America/Phoenix
BEGIN:STANDARD
TZOFFSETFROM:-0700
TZOFFSETTO:-0700
TZNAME:MST
DTSTART:20240101T000000
END:STANDARD
END:VTIMEZONE
BEGIN:VEVENT
DTSTART;TZID=America/Phoenix:20251117T073000
DTEND;TZID=America/Phoenix:20251117T080000
DTSTAMP:20260421T090347
CREATED:20251030T183746Z
LAST-MODIFIED:20251030T184637Z
UID:10001343-1763364600-1763366400@westernassetprotection.com
SUMMARY:Devoted Health Arizona Drop In - Q&A Series
DESCRIPTION:We’re excited to share a great opportunity to help you stay connected and informed about Devoted Health’s Medicare Advantage plans in Arizona during AEP.  \n\n\n\n\n\n\nOur local Devoted Broker Manager team will be hosting 3 opportunities each week for agents or agency leads to hop in and ask questions about benefits\, tools\, and resources\, or just to listen in; all are welcome to stop by. \n🕒 When: Every Monday\, Wednesday and Friday at 7:30 AM-8 AM through December 5\, 2025.\n📍 Where: Google Meets\n❓What to Expect: No formal agenda—just real-time support\, answers\, and open conversation. \nIt’s a relaxed space to get the info you need and connect with the Devoted team directly.
URL:https://westernassetprotection.com/event/devoted-health-arizona-drop-in-qa-series-2-2/2025-11-17/
CATEGORIES:Devoted
END:VEVENT
BEGIN:VEVENT
DTSTART;TZID=America/Phoenix:20251117T093000
DTEND;TZID=America/Phoenix:20251117T100000
DTSTAMP:20260421T090347
CREATED:20251118T172143Z
LAST-MODIFIED:20251118T172143Z
UID:10001373-1763371800-1763373600@westernassetprotection.com
SUMMARY:CSG APP – Feature Focus Training
DESCRIPTION:Register HERE > \n  \nEvery Monday at 10:30 AM CDT\, we host a quick webinar focused on a single part of the CSG App tool. \nPlease register for each session you’re interested in. \n\nNovember 3: Fill Med Adv Coverage Gaps with Hospital Indemnity\nNovember 10: Stack Med Supp Plan alongside PDP and DVH Plans\nNovember 17: Medicare Supplement Quoting Tools – Key Features\nNovember 24: Universal\, Multi-Carrier EApplication
URL:https://westernassetprotection.com/event/csg-app-feature-focus-training-21/
CATEGORIES:CSG Training
END:VEVENT
BEGIN:VEVENT
DTSTART;TZID=America/Phoenix:20251117T100000
DTEND;TZID=America/Phoenix:20251117T110000
DTSTAMP:20260421T090347
CREATED:20251118T161624Z
LAST-MODIFIED:20251118T161624Z
UID:10001360-1763373600-1763377200@westernassetprotection.com
SUMMARY:Enhanced Selling Permissions | For Life Agents
DESCRIPTION:Register HERE > \n  \nIntegrityCONNECT is Integrity’s powerful technology platform that is built to help you be more successful — so you can save time\, and sell more. We’ve hosted a few trainings for new users of the platform\, so in this webinar\, we’ll dive further into enhanced selling permissions!
URL:https://westernassetprotection.com/event/enhanced-selling-permissions-for-life-agents/
CATEGORIES:IntegrityCONNECT
END:VEVENT
BEGIN:VEVENT
DTSTART;TZID=America/Phoenix:20251118T080000
DTEND;TZID=America/Phoenix:20251118T081500
DTSTAMP:20260421T090347
CREATED:20251118T170728Z
LAST-MODIFIED:20251118T170728Z
UID:10001365-1763452800-1763453700@westernassetprotection.com
SUMMARY:Tech Tip Tuesdays
DESCRIPTION:Register HERE > \n  \nJoin us every Tuesday at 9AM or 11AM CDT for quick 15-minute trainings on how IntegrityCONNECT® can help you save time\, work smarter\, and sell more. Register for each session you are interested in. \nAgenda \n\nNovember 4: Voice Signature for E-Applications\nNovember 11: New ‘View As’ Feature\nNovember 18: New Ask Integrity Plan Insights\nNovember 25: Spanish View
URL:https://westernassetprotection.com/event/tech-tip-tuesdays-3/
CATEGORIES:IntegrityCONNECT
END:VEVENT
BEGIN:VEVENT
DTSTART;TZID=America/Phoenix:20251118T100000
DTEND;TZID=America/Phoenix:20251118T101500
DTSTAMP:20260421T090347
CREATED:20251118T171512Z
LAST-MODIFIED:20251118T171512Z
UID:10001369-1763460000-1763460900@westernassetprotection.com
SUMMARY:Tech Tip Tuesdays
DESCRIPTION:Register HERE > \n  \nJoin us every Tuesday at 9AM or 11AM CDT for quick 15-minute trainings on how IntegrityCONNECT® can help you save time\, work smarter\, and sell more. Register for each session you are interested in. \nAgenda \n\nNovember 4: Voice Signature for E-Applications\nNovember 11: New ‘View As’ Feature\nNovember 18: New Ask Integrity Plan Insights\nNovember 25: Spanish View
URL:https://westernassetprotection.com/event/tech-tip-tuesdays-7/
END:VEVENT
BEGIN:VEVENT
DTSTART;TZID=America/Phoenix:20251119T073000
DTEND;TZID=America/Phoenix:20251119T080000
DTSTAMP:20260421T090347
CREATED:20251030T183746Z
LAST-MODIFIED:20251030T184637Z
UID:10001344-1763537400-1763539200@westernassetprotection.com
SUMMARY:Devoted Health Arizona Drop In - Q&A Series
DESCRIPTION:We’re excited to share a great opportunity to help you stay connected and informed about Devoted Health’s Medicare Advantage plans in Arizona during AEP.  \n\n\n\n\n\n\nOur local Devoted Broker Manager team will be hosting 3 opportunities each week for agents or agency leads to hop in and ask questions about benefits\, tools\, and resources\, or just to listen in; all are welcome to stop by. \n🕒 When: Every Monday\, Wednesday and Friday at 7:30 AM-8 AM through December 5\, 2025.\n📍 Where: Google Meets\n❓What to Expect: No formal agenda—just real-time support\, answers\, and open conversation. \nIt’s a relaxed space to get the info you need and connect with the Devoted team directly.
URL:https://westernassetprotection.com/event/devoted-health-arizona-drop-in-qa-series-2-2/2025-11-19/
CATEGORIES:Devoted
END:VEVENT
BEGIN:VEVENT
DTSTART;TZID=America/Phoenix:20251121T073000
DTEND;TZID=America/Phoenix:20251121T080000
DTSTAMP:20260421T090347
CREATED:20251030T183746Z
LAST-MODIFIED:20251030T184637Z
UID:10001345-1763710200-1763712000@westernassetprotection.com
SUMMARY:Devoted Health Arizona Drop In - Q&A Series
DESCRIPTION:We’re excited to share a great opportunity to help you stay connected and informed about Devoted Health’s Medicare Advantage plans in Arizona during AEP.  \n\n\n\n\n\n\nOur local Devoted Broker Manager team will be hosting 3 opportunities each week for agents or agency leads to hop in and ask questions about benefits\, tools\, and resources\, or just to listen in; all are welcome to stop by. \n🕒 When: Every Monday\, Wednesday and Friday at 7:30 AM-8 AM through December 5\, 2025.\n📍 Where: Google Meets\n❓What to Expect: No formal agenda—just real-time support\, answers\, and open conversation. \nIt’s a relaxed space to get the info you need and connect with the Devoted team directly.
URL:https://westernassetprotection.com/event/devoted-health-arizona-drop-in-qa-series-2-2/2025-11-21/
CATEGORIES:Devoted
END:VEVENT
BEGIN:VEVENT
DTSTART;TZID=America/Phoenix:20251121T110000
DTEND;TZID=America/Phoenix:20251121T120000
DTSTAMP:20260421T090347
CREATED:20251114T212345Z
LAST-MODIFIED:20251114T212347Z
UID:10001278-1763722800-1763726400@westernassetprotection.com
SUMMARY:WAPTECH Tech Intensive Series - Learn about WAP's Tech Tools
DESCRIPTION:Register for the Series HERE > \n  \nWe’ve brought back our weekly virtual tech trainings called WAPTECH\, which will take place every Friday through AEP. \n\nDiscover the latest support features in the HealthWealthEngine and IntegrityCONNECT (Formerly Medicare Center)\nJoin our Suite of Tools training series to help streamline your business and serve clients more efficiently\n\nRegister now
URL:https://westernassetprotection.com/event/waptech-tech-intensive-series-learn-about-waps-tech-tools-3-2/
CATEGORIES:WAPTech
END:VEVENT
END:VCALENDAR