BEGIN:VCALENDAR
VERSION:2.0
PRODID:-//Western Asset Protection - ECPv6.15.18//NONSGML v1.0//EN
CALSCALE:GREGORIAN
METHOD:PUBLISH
X-WR-CALNAME:Western Asset Protection
X-ORIGINAL-URL:https://westernassetprotection.com
X-WR-CALDESC:Events for Western Asset Protection
REFRESH-INTERVAL;VALUE=DURATION:PT1H
X-Robots-Tag:noindex
X-PUBLISHED-TTL:PT1H
BEGIN:VTIMEZONE
TZID:America/Phoenix
BEGIN:STANDARD
TZOFFSETFROM:-0700
TZOFFSETTO:-0700
TZNAME:MST
DTSTART:20240101T000000
END:STANDARD
END:VTIMEZONE
BEGIN:VEVENT
DTSTART;TZID=America/Phoenix:20251222T093000
DTEND;TZID=America/Phoenix:20251222T100000
DTSTAMP:20260420T210435
CREATED:20251211T002259Z
LAST-MODIFIED:20251211T002311Z
UID:10001385-1766395800-1766397600@westernassetprotection.com
SUMMARY:CSG APP Feature Focus Training
DESCRIPTION:Register Here > \n  \nEvery Monday at 10:30 AM CDT we have a quick webinar focusing on one part of the CSG App tool. \nPlease register for each session you’re interested in. \n\nDecember 8: Household Discounts and Rating Classes\nDecember 15: Med Supp Quoting Tool – Key Features\nDecember 22: Add Med Supp Quoting to Your Website
URL:https://westernassetprotection.com/event/csg-app-feature-focus-training-24/
CATEGORIES:IntegrityCONNECT
END:VEVENT
END:VCALENDAR