BEGIN:VCALENDAR
VERSION:2.0
PRODID:-//Western Asset Protection - ECPv6.15.18//NONSGML v1.0//EN
CALSCALE:GREGORIAN
METHOD:PUBLISH
X-WR-CALNAME:Western Asset Protection
X-ORIGINAL-URL:https://westernassetprotection.com
X-WR-CALDESC:Events for Western Asset Protection
REFRESH-INTERVAL;VALUE=DURATION:PT1H
X-Robots-Tag:noindex
X-PUBLISHED-TTL:PT1H
BEGIN:VTIMEZONE
TZID:America/Phoenix
BEGIN:STANDARD
TZOFFSETFROM:-0700
TZOFFSETTO:-0700
TZNAME:MST
DTSTART:20230101T000000
END:STANDARD
END:VTIMEZONE
BEGIN:VEVENT
DTSTART;TZID=America/Phoenix:20250708T110000
DTEND;TZID=America/Phoenix:20250708T120000
DTSTAMP:20260421T192258
CREATED:20250717T175900Z
LAST-MODIFIED:20250717T175900Z
UID:10001248-1751972400-1751976000@westernassetprotection.com
SUMMARY:Talk-O Tuesday
DESCRIPTION:Register HERE > \n  \nOn the 2nd Tuesday of every month\, we invite you to join the discussion around anything and everything related to being in business in the Medicare space. Boost your business success! Join the WAP Team for Talk-O Tuesday\, a chance to connect with our National FMO Sales\, Compliance\, and Marketing Leaders. \n\nBring your questions and your ideas and be part of the conversation.\nPerfect for refining your strategies and staying updated on market trends!\n\n  \nWe look forward to seeing you there.
URL:https://westernassetprotection.com/event/talk-o-tuesday-14/
END:VEVENT
BEGIN:VEVENT
DTSTART;TZID=America/Phoenix:20250624T113000
DTEND;TZID=America/Phoenix:20250624T130000
DTSTAMP:20260421T192258
CREATED:20250613T173646Z
LAST-MODIFIED:20250613T174806Z
UID:10001196-1750764600-1750770000@westernassetprotection.com
SUMMARY:Cigna Food Truck - Churros & Ice Cream
DESCRIPTION:Stay Cool in June!\nJoin us for a delicious gathering with the Snowy Churro Food Truck on June 24\nat the Western Asset Protection (WAP) office\, 4550 E. Bell Rd\, from 11:30 AM to\n1:00 PM. This event is hosted by Cigna’s sales leadership. \nTake a few minutes out of your day for some mouthwatering ice cream and\nchurros. Experience a sweet escape and enjoy some quality time with the WAP\,\nCigna\, and Oak Street teams while treating yourself to a variety of flavors and\ntoppings! \nNo RSVP needed. Just bring your appetite and enthusiasm. We look forward to\nseeing you there!
URL:https://westernassetprotection.com/event/cigna-food-truck-churros-ice-cream/
LOCATION:Western Asset Protection Office\, 4550 E Bell Road\, Bldg 4\, Suite 136\, Phoenix\, AZ\, 85032\, United States
CATEGORIES:Cigna,Western Asset Protection Training
END:VEVENT
BEGIN:VEVENT
DTSTART;TZID=America/Phoenix:20240227T080000
DTEND;TZID=America/Phoenix:20240227T113000
DTSTAMP:20260421T192258
CREATED:20240116T174400Z
LAST-MODIFIED:20240221T193559Z
UID:10000332-1709020800-1709033400@westernassetprotection.com
SUMMARY:Life and Wealth Experience - Life & Annuities Training
DESCRIPTION:Don’t miss this exclusive in-person event!\nLearn how we’re helping independent brokers accelerate business growth through the Life & Annuities market. \nThere’s more beyond Medicare\n\nReady to do More than Medicare?\nEver thought about breaking into Life & Annuities?\nWorried that you don’t have the experience or capacity to offer new complex product lines?\n\nYou need to join us for the “Exclusive Life & Wealth Experience” on Tue. 2/27. Steven Smith and Paul Rose\, along with their new partners at Quantum\, will be sharing key insights. \nBecome a more valuable resource for your clients\n\nIncrease Client Retention – Develop deeper relationships with more products per client.\nStrategic Planning – Developing and executing strategies that stimulate business expansion.\nGrowth Through Partnership – The Quantum Story\, Partnership with WAP\, Products & more.\nTechnology Solutions – Leveraging technology for efficiency and competitive advantage.\n\n 
URL:https://westernassetprotection.com/event/life-wealth-experience/
CATEGORIES:Western Asset Protection Training
ATTACH;FMTTYPE=image/png:https://westernassetprotection.com/wp-content/uploads/2024/01/WAP-Quantum-Header.png
END:VEVENT
END:VCALENDAR