BEGIN:VCALENDAR
VERSION:2.0
PRODID:-//Western Asset Protection - ECPv6.15.18//NONSGML v1.0//EN
CALSCALE:GREGORIAN
METHOD:PUBLISH
X-WR-CALNAME:Western Asset Protection
X-ORIGINAL-URL:https://westernassetprotection.com
X-WR-CALDESC:Events for Western Asset Protection
REFRESH-INTERVAL;VALUE=DURATION:PT1H
X-Robots-Tag:noindex
X-PUBLISHED-TTL:PT1H
BEGIN:VTIMEZONE
TZID:America/Phoenix
BEGIN:STANDARD
TZOFFSETFROM:-0700
TZOFFSETTO:-0700
TZNAME:MST
DTSTART:20240101T000000
END:STANDARD
END:VTIMEZONE
BEGIN:VEVENT
DTSTART;TZID=America/Phoenix:20250611T130000
DTEND;TZID=America/Phoenix:20250611T150000
DTSTAMP:20260421T012701
CREATED:20250214T225159Z
LAST-MODIFIED:20250214T225606Z
UID:10001140-1749646800-1749654000@westernassetprotection.com
SUMMARY:Centerwell Indoor Broker Pickleball Event - Glendale
DESCRIPTION:Join us at Center Court in Glendale to play some PICKLEBALL! Lunch Provided! \n\nThis broker-facing event will allow you to learn more about CenterWell and get to know our team.\nPlease wear COMFORTABLE clothes and shoes so you can play with us.\nPaddles and balls will be provided\, but feel free to bring your own.\nLunch\, snacks\, and drinks will be provided for everybody.\nOur carrier partners will have tables\, so come ready with questions.\n\nRSVP by calling Denise at 480-255-7843 or Bethany at 602-754-8035 to reserve your spot! \nSpots are limited\, so RSVP by 6/6/25 \nWe can’t wait to see you there!
URL:https://westernassetprotection.com/event/centerwell-indoor-broker-pickleball-event-glendale/
LOCATION:Center Court Pickelball Club\, 5960 W Bell Rd
CATEGORIES:Western Asset Protection Training
END:VEVENT
END:VCALENDAR